BEGIN:VCALENDAR
VERSION:2.0
PRODID:-//H.V.V. de Winkbülle - ECPv6.15.20//NONSGML v1.0//EN
CALSCALE:GREGORIAN
METHOD:PUBLISH
X-ORIGINAL-URL:https://winkbulle.nl
X-WR-CALDESC:Evenementen voor H.V.V. de Winkbülle
REFRESH-INTERVAL;VALUE=DURATION:PT1H
X-Robots-Tag:noindex
X-PUBLISHED-TTL:PT1H
BEGIN:VTIMEZONE
TZID:Europe/Amsterdam
BEGIN:DAYLIGHT
TZOFFSETFROM:+0100
TZOFFSETTO:+0200
TZNAME:CEST
DTSTART:20200329T010000
END:DAYLIGHT
BEGIN:STANDARD
TZOFFSETFROM:+0200
TZOFFSETTO:+0100
TZNAME:CET
DTSTART:20201025T010000
END:STANDARD
BEGIN:DAYLIGHT
TZOFFSETFROM:+0100
TZOFFSETTO:+0200
TZNAME:CEST
DTSTART:20210328T010000
END:DAYLIGHT
BEGIN:STANDARD
TZOFFSETFROM:+0200
TZOFFSETTO:+0100
TZNAME:CET
DTSTART:20211031T010000
END:STANDARD
BEGIN:DAYLIGHT
TZOFFSETFROM:+0100
TZOFFSETTO:+0200
TZNAME:CEST
DTSTART:20220327T010000
END:DAYLIGHT
BEGIN:STANDARD
TZOFFSETFROM:+0200
TZOFFSETTO:+0100
TZNAME:CET
DTSTART:20221030T010000
END:STANDARD
END:VTIMEZONE
BEGIN:VEVENT
DTSTART;TZID=Europe/Amsterdam:20211114T140000
DTEND;TZID=Europe/Amsterdam:20211114T180000
DTSTAMP:20260420T084457
CREATED:20211015T165133Z
LAST-MODIFIED:20211015T165133Z
UID:1729-1636898400-1636912800@winkbulle.nl
SUMMARY:Uitreiking gouden en zilveren ezels
DESCRIPTION:Op zondag 14 november reiken we onze hoogste onderscheidingen uit. Bezoekers zijn hierbij van harte welkom en we houden ons uiteraard aan de geldende coronamaatregelen. \nMeer informatie volgt snel!
URL:https://winkbulle.nl/event/uitreiking-gouden-en-zilveren-ezels/
END:VEVENT
END:VCALENDAR