BEGIN:VCALENDAR
VERSION:2.0
PRODID:-//H.V.V. de Winkbülle - ECPv6.15.20//NONSGML v1.0//EN
CALSCALE:GREGORIAN
METHOD:PUBLISH
X-WR-CALNAME:H.V.V. de Winkbülle
X-ORIGINAL-URL:https://winkbulle.nl
X-WR-CALDESC:Evenementen voor H.V.V. de Winkbülle
REFRESH-INTERVAL;VALUE=DURATION:PT1H
X-Robots-Tag:noindex
X-PUBLISHED-TTL:PT1H
BEGIN:VTIMEZONE
TZID:Europe/Amsterdam
BEGIN:DAYLIGHT
TZOFFSETFROM:+0100
TZOFFSETTO:+0200
TZNAME:CEST
DTSTART:20210328T010000
END:DAYLIGHT
BEGIN:STANDARD
TZOFFSETFROM:+0200
TZOFFSETTO:+0100
TZNAME:CET
DTSTART:20211031T010000
END:STANDARD
BEGIN:DAYLIGHT
TZOFFSETFROM:+0100
TZOFFSETTO:+0200
TZNAME:CEST
DTSTART:20220327T010000
END:DAYLIGHT
BEGIN:STANDARD
TZOFFSETFROM:+0200
TZOFFSETTO:+0100
TZNAME:CET
DTSTART:20221030T010000
END:STANDARD
BEGIN:DAYLIGHT
TZOFFSETFROM:+0100
TZOFFSETTO:+0200
TZNAME:CEST
DTSTART:20230326T010000
END:DAYLIGHT
BEGIN:STANDARD
TZOFFSETFROM:+0200
TZOFFSETTO:+0100
TZNAME:CET
DTSTART:20231029T010000
END:STANDARD
END:VTIMEZONE
BEGIN:VEVENT
DTSTART;TZID=Europe/Amsterdam:20220107T200000
DTEND;TZID=Europe/Amsterdam:20220107T235900
DTSTAMP:20260420T035211
CREATED:20211003T153346Z
LAST-MODIFIED:20211003T154049Z
UID:1714-1641585600-1641599940@winkbulle.nl
SUMMARY:Abdicatie Sjtadsprins Erik I
DESCRIPTION:Op vrijdag 7 januari 2022 moet Sjtadsprins Erik I er dan toch echt aan geloven: zijn abdicatie! Hij regeert niet langer over Heële en maakt plaats voor een nieuwe Sjtadsprins. Samen zwaaien we hem uit. \nMeer informatie over dit evenement\, zoals exacte tijden en locatie\, volgt snel.
URL:https://winkbulle.nl/event/abdicatie-sjtadsprins-erik-i/
ATTACH;FMTTYPE=image/jpeg:https://winkbulle.nl/wp-content/uploads/2021/06/Afsluiting-025.jpg
END:VEVENT
END:VCALENDAR