BEGIN:VCALENDAR
VERSION:2.0
PRODID:-//H.V.V. de Winkbülle - ECPv6.15.20//NONSGML v1.0//EN
CALSCALE:GREGORIAN
METHOD:PUBLISH
X-WR-CALNAME:H.V.V. de Winkbülle
X-ORIGINAL-URL:https://winkbulle.nl
X-WR-CALDESC:Evenementen voor H.V.V. de Winkbülle
REFRESH-INTERVAL;VALUE=DURATION:PT1H
X-Robots-Tag:noindex
X-PUBLISHED-TTL:PT1H
BEGIN:VTIMEZONE
TZID:Europe/Amsterdam
BEGIN:DAYLIGHT
TZOFFSETFROM:+0100
TZOFFSETTO:+0200
TZNAME:CEST
DTSTART:20210328T010000
END:DAYLIGHT
BEGIN:STANDARD
TZOFFSETFROM:+0200
TZOFFSETTO:+0100
TZNAME:CET
DTSTART:20211031T010000
END:STANDARD
BEGIN:DAYLIGHT
TZOFFSETFROM:+0100
TZOFFSETTO:+0200
TZNAME:CEST
DTSTART:20220327T010000
END:DAYLIGHT
BEGIN:STANDARD
TZOFFSETFROM:+0200
TZOFFSETTO:+0100
TZNAME:CET
DTSTART:20221030T010000
END:STANDARD
BEGIN:DAYLIGHT
TZOFFSETFROM:+0100
TZOFFSETTO:+0200
TZNAME:CEST
DTSTART:20230326T010000
END:DAYLIGHT
BEGIN:STANDARD
TZOFFSETFROM:+0200
TZOFFSETTO:+0100
TZNAME:CET
DTSTART:20231029T010000
END:STANDARD
END:VTIMEZONE
BEGIN:VEVENT
DTSTART;TZID=Europe/Amsterdam:20220226T200000
DTEND;TZID=Europe/Amsterdam:20220226T203000
DTSTAMP:20260420T223732
CREATED:20220223T084748Z
LAST-MODIFIED:20220223T084748Z
UID:1839-1645905600-1645907400@winkbulle.nl
SUMMARY:Sleuteloverdracht
DESCRIPTION:Ook dit jaar ontvangt iemand de sleutel van Heële op carnavalszaterdag. Omdat we dit jaar geen nieuwe Sjtadsprins hebben\, krijg jij hem misschien wel! \nOm 20:00u komt de Blauw Sjuut samen met burgemeester Roel Wever aan op het Pancratiusplein om de sleutel van Heële te overhandigen aan de mooist verklede carnavalist of carnavalsgroep. Trek dus je mooiste pekske uit de kast en wie weet mag jij\, samen met je vasteloavesvrung\, even ‘heersen’ over Heële!
URL:https://winkbulle.nl/event/sleuteloverdracht-2/
LOCATION:Pancratiusplein
END:VEVENT
END:VCALENDAR